BEGIN:VCALENDAR
VERSION:2.0
PRODID:-//Library Market//iCal Export//EN
BEGIN:VEVENT
SUMMARY:Summer Reading Program Finale Party
UID:23171
DTSTAMP:20260422T101800Z
DTSTART:20260731T190000Z
DTEND:20260731T210000Z
LOCATION:Marguerite deAngeli Branch, 921 W. Nepessing Street, Lapeer, MI 4
 8446, United States
ROOM: Summer Reading Program Finale Party
DESCRIPTION:Your librarians would love to congratulate you on finishing yo
 ur Summer Reading Challenge! Pick up your certificate, a popsicle, and a b
 ook at 3 p.m. Then at 3:30 pm, be ready for an afternoon of FUN with Comed
 y Magician &amp; Entertainer- Jeff Wawrzaszek! Jeff&#039;s show is filled 
 with mind blowing magic, comedy, audience participation and goodies! You 
 do not want to miss out!
URL:https://www.library.lapeer.org/event/summer-reading-program-finale-par
 ty-23171
END:VEVENT
END:VCALENDAR
