BEGIN:VCALENDAR
VERSION:2.0
PRODID:-//Library Market//iCal Export//EN
BEGIN:VEVENT
SUMMARY:Life Beneath Our Feet
UID:23207
DTSTAMP:20260422T142200Z
DTSTART:20260805T180000Z
DTEND:20260805T190000Z
LOCATION:Clifford Branch, 9530 Main Street, Clifford, MI 48727, United Sta
 tes
ROOM: Life Beneath Our Feet
DESCRIPTION:Discover the hidden world beneath our feet, from soil formatio
 n to the intricate relationships between plants, bacteria, and earthworms.
 Presented by Seven Ponds Nature Center
URL:https://www.library.lapeer.org/event/life-beneath-our-feet-presented-s
 even-ponds-nature-center-23207
END:VEVENT
END:VCALENDAR
