BEGIN:VCALENDAR
VERSION:2.0
PRODID:-//Library Market//iCal Export//EN
BEGIN:VEVENT
SUMMARY:Woodbridge Park II Condominium Association Rescheduled Annual Meet
 ing
UID:23247
DTSTAMP:20260422T101800Z
DTSTART:20260514T220000Z
DTEND:20260514T233000Z
LOCATION:921 West Nepessing St, Lapeer, MI 48446, United States
ROOM: deAngeli Meeting Room
DESCRIPTION:Annual meeting for the community to discuss budgeting, project
  completion as well as contracting with the developer, landscaping contrac
 ts, and future architectural improvements.
URL:https://www.library.lapeer.org/event/woodbridge-park-ii-condominium-as
 sociation-rescheduled-annual-meeting-23247
END:VEVENT
END:VCALENDAR
