BEGIN:VCALENDAR
VERSION:2.0
PRODID:-//Library Market//iCal Export//EN
BEGIN:VEVENT
SUMMARY:Friday Friends
UID:23254
DTSTAMP:20260422T101800Z
DTSTART:20260724T140000Z
DTEND:20260724T150000Z
LOCATION:921 West Nepessing St, Lapeer, MI 48446, United States
ROOM: deAngeli Meeting Room
DESCRIPTION:Playtime for little learners! Friday Friends can help children
  develop social skills by playing with their peers. Kids of all ages with 
 an adult are welcome to join, but best for ages 2-4. Storytime space is re
 served for children and their caregivers only.2026 Schedule September 11 
 - December 11
URL:https://www.library.lapeer.org/event/friday-friends-23254
END:VEVENT
END:VCALENDAR
