BEGIN:VCALENDAR
VERSION:2.0
PRODID:-//Library Market//iCal Export//EN
BEGIN:VEVENT
SUMMARY:PSAT9 Exam
UID:23257
DTSTAMP:20260422T101800Z
DTSTART:20260427T163000Z
DTEND:20260427T203000Z
LOCATION:921 West Nepessing St, Lapeer, MI 48446, United States
ROOM: deAngeli Meeting Room
DESCRIPTION:Standardized Testing for MS children enrolled in online learni
 ng and live in the area
URL:https://www.library.lapeer.org/event/psat9-exam-23257
END:VEVENT
END:VCALENDAR
