BEGIN:VCALENDAR
VERSION:2.0
PRODID:-//Library Market//iCal Export//EN
BEGIN:VEVENT
SUMMARY:Invitation Preparation
UID:23294
DTSTAMP:20260421T043300Z
DTSTART:20260424T170000Z
DTEND:20260424T200000Z
LOCATION:921 West Nepessing St, Lapeer, MI 48446, United States
ROOM: deAngeli Meeting Room
DESCRIPTION:Prepare mailing for League Annual Meeting
URL:https://www.library.lapeer.org/event/invitation-preparation-23294
END:VEVENT
END:VCALENDAR
