BEGIN:VCALENDAR
VERSION:2.0
PRODID:-//Library Market//iCal Export//EN
BEGIN:VEVENT
SUMMARY:Monday Movies
UID:23308
DTSTAMP:20260422T143900Z
DTSTART:20260615T140000Z
DTEND:20260615T153000Z
LOCATION:921 West Nepessing St, Lapeer, MI 48446, United States
ROOM: deAngeli Meeting Room
DESCRIPTION:Enjoy popcorn and a movie at the library! We will have relaxin
 g lighting, activity sheets, and coloring pages.June 8th - Good Dinosaur Â
  (2015, PG)June 15th - Journey to the center of the Earth (2008, PG)June 2
 2nd - Journey 2: The Mysterious Island (2012, PG)June 29th - Ice Age: Dawn
  of the Dinosaurs (2009, PG)July 6th - Meet the Robinsons (2007, PG)July 1
 3th - Scooby-Doo! Legend of the Phantosaur (2011, PG)July 20th - Jumanji (
 1995, PG)July 27th - Dinosaur (2000, PG)Â Â 
URL:https://www.library.lapeer.org/event/monday-movies-23308
END:VEVENT
END:VCALENDAR
