BEGIN:VCALENDAR
VERSION:2.0
PRODID:-//Library Market//iCal Export//EN
BEGIN:VEVENT
SUMMARY:Monday Movies
UID:23313
DTSTAMP:20260422T143900Z
DTSTART:20260720T140000Z
DTEND:20260720T153000Z
LOCATION:921 West Nepessing St, Lapeer, MI 48446, United States
ROOM: deAngeli Meeting Room
DESCRIPTION:Enjoy popcorn and a movie at the library! We will have relaxin
 g lighting, activity sheets, and coloring pages.June 8th - The Good Dinosa
 ur  (2015, PG)June 15th - Journey to the center of the Earth (2008, PG)Ju
 ne 22nd - Journey 2: The Mysterious Island (2012, PG)June 29th - Ice Age: 
 Dawn of the Dinosaurs (2009, PG)July 6th - Meet the Robinsons (2007, PG)Ju
 ly 13th - Scooby-Doo! Legend of the Phantosaur (2011, PG)July 20th - Juman
 ji (1995, PG)July 27th - Dinosaur (2000, PG)  
URL:https://www.library.lapeer.org/event/monday-movies-23313
END:VEVENT
END:VCALENDAR
