BEGIN:VCALENDAR
VERSION:2.0
PRODID:-//Library Market//iCal Export//EN
BEGIN:VEVENT
SUMMARY:Tummy Time Painting
UID:23319
DTSTAMP:20260423T071500Z
DTSTART:20260725T140000Z
DTEND:20260725T150000Z
LOCATION:921 West Nepessing St, Lapeer, MI 48446, United States
ROOM: deAngeli Meeting Room
DESCRIPTION:Caregivers will choose colors to seal in a plastic bag and the
 ir babies will squish the paint around to create a masterpiece! Participan
 ts will take their painting home in the bag, cut away the plastic, and let
  it air dry. For ages 2-12 months and their caregivers only. 
URL:https://www.library.lapeer.org/event/tummy-time-painting-23319
END:VEVENT
END:VCALENDAR
