BEGIN:VCALENDAR
VERSION:2.0
PRODID:-//Library Market//iCal Export//EN
BEGIN:VEVENT
SUMMARY:To LLC or Not LLC: A Guide to Business Formation
UID:23335
DTSTAMP:20260423T202400Z
DTSTART:20260511T210000Z
DTEND:20260511T233000Z
LOCATION:921 West Nepessing St, Lapeer, MI 48446, United States
ROOM: deAngeli Meeting Room
DESCRIPTION:Considering starting a business or want to understand your cur
 rent structure? Join Michael Gilbert, Jr., Vice President and Branch Manag
 er at PNC Bank for a seminar that explores different business formations, 
 including Sole Proprietorship, LLC, Inc, partnerships, and Non-profits. Le
 arn about the purpose and benefits of each structure, and discover the cri
 tical dangers of commingling business funds with your personal accounts. 
 Additional Sessions this year:July 18: S is for Savings PNC Financial Semi
 narOctober 19: Traditional vs. Roth IRAs: Which is Right for Your Retireme
 nt?November 9: Protect Your Holidays: A Fraud Seminar 
URL:https://www.library.lapeer.org/event/llc-or-not-llc-guide-business-for
 mation-23335
END:VEVENT
END:VCALENDAR
