BEGIN:VCALENDAR
VERSION:2.0
PRODID:-//Library Market//iCal Export//EN
BEGIN:VEVENT
SUMMARY:Traditional vs. Roth IRAs: Which is Right for Your Retirement?
UID:23336
DTSTAMP:20260423T214900Z
DTSTART:20261019T210000Z
DTEND:20261019T230000Z
LOCATION:921 West Nepessing St, Lapeer, MI 48446, United States
ROOM: deAngeli Meeting Room
DESCRIPTION:Navigate the complexities of retirement savings. Join Michael 
 Gilbert, Jr., Vice President and Branch Manager from PNC Bank as he breaks
  down the pros and cons of Traditional versus Roth Individual Retirement A
 ccounts (IRAs). Learn about the specific tax advantages and benefits each 
 type offers and gain the clarity you need to choose the best path for your
  long-term financial future. Additional Session this year:November 9: Pro
 tect Your Holidays: A Fraud Seminar  
URL:https://www.library.lapeer.org/event/traditional-vs-roth-iras-which-ri
 ght-your-retirement-23336
END:VEVENT
END:VCALENDAR
