BEGIN:VCALENDAR
VERSION:2.0
PRODID:-//Library Market//iCal Export//EN
BEGIN:VEVENT
SUMMARY:Protect Your Holidays: A Fraud Seminar
UID:23337
DTSTAMP:20260423T214900Z
DTSTART:20261109T220000Z
DTEND:20261110T000000Z
LOCATION:921 West Nepessing St, Lapeer, MI 48446, United States
ROOM: deAngeli Meeting Room
DESCRIPTION:Don&#039;t let scammers steal your holiday cheer. Join Michael
  Gilbert, Jr., Vice President and Branch Manager at PNC Bank for a seminar
  focused specifically on fraud protection for the busy season. Get up-to-d
 ate information on the latest scams and learn how to recognize and avoid &
 quot;holiday scam pitfalls&quot; to ensure your assets and finances are sa
 fe.   
URL:https://www.library.lapeer.org/event/protect-your-holidays-fraud-semin
 ar-23337
END:VEVENT
END:VCALENDAR
