BEGIN:VCALENDAR
VERSION:2.0
PRODID:-//Library Market//iCal Export//EN
BEGIN:VEVENT
SUMMARY:Build-A-Bear Take-It-Make-It
UID:23342
DTSTAMP:20260423T214900Z
DTSTART:20260730T150000Z
DTEND:20260730T210000Z
LOCATION:Elba Branch, 5508 Davison Road, Lapeer, MI 48446, United States
ROOM: Build-A-Bear Take-It-Make-It
DESCRIPTION:Stop by the Elba library during operation hours to pick up a B
 uild-A-Bear Take-It-Make-It kit and have fun making your bear at home. Av
 ailable while supplies last.
URL:https://www.library.lapeer.org/event/build-bear-take-it-make-it-23342
END:VEVENT
END:VCALENDAR
